BEGIN:VCALENDAR
VERSION:2.0
PRODID:-//New Millennium Secondary School - ECPv6.15.20//NONSGML v1.0//EN
CALSCALE:GREGORIAN
METHOD:PUBLISH
X-WR-CALNAME:New Millennium Secondary School
X-ORIGINAL-URL:https://newmillenniumschool.org
X-WR-CALDESC:Events for New Millennium Secondary School
REFRESH-INTERVAL;VALUE=DURATION:PT1H
X-Robots-Tag:noindex
X-PUBLISHED-TTL:PT1H
BEGIN:VTIMEZONE
TZID:America/Los_Angeles
BEGIN:DAYLIGHT
TZOFFSETFROM:-0800
TZOFFSETTO:-0700
TZNAME:PDT
DTSTART:20250309T100000
END:DAYLIGHT
BEGIN:STANDARD
TZOFFSETFROM:-0700
TZOFFSETTO:-0800
TZNAME:PST
DTSTART:20251102T090000
END:STANDARD
BEGIN:DAYLIGHT
TZOFFSETFROM:-0800
TZOFFSETTO:-0700
TZNAME:PDT
DTSTART:20260308T100000
END:DAYLIGHT
BEGIN:STANDARD
TZOFFSETFROM:-0700
TZOFFSETTO:-0800
TZNAME:PST
DTSTART:20261101T090000
END:STANDARD
BEGIN:DAYLIGHT
TZOFFSETFROM:-0800
TZOFFSETTO:-0700
TZNAME:PDT
DTSTART:20270314T100000
END:DAYLIGHT
BEGIN:STANDARD
TZOFFSETFROM:-0700
TZOFFSETTO:-0800
TZNAME:PST
DTSTART:20271107T090000
END:STANDARD
END:VTIMEZONE
BEGIN:VEVENT
DTSTART;TZID=America/Los_Angeles:20260420T083000
DTEND;TZID=America/Los_Angeles:20260430T120000
DTSTAMP:20260424T012208
CREATED:20260417T205542Z
LAST-MODIFIED:20260417T205542Z
UID:1256-1776673800-1777550400@newmillenniumschool.org
SUMMARY:CAASSP and CAST Testing April 20th-30th
DESCRIPTION:CAASPP & CAST Testing: April 20th – April 30th\nIt is time for our Warriors to show what they know! New Millennium Secondary School will be conducting annual state testing from April 20th through April 30th. These assessments help us measure student progress and ensure we are providing the best possible education for our community. \nTesting Schedule & Participation\n\n\n11th & 12th Grade (Juniors and Seniors): Will be taking the CAST (California Science Test). \n\n\n9th\, 10th\, & 11th Grade: Will be taking the CAASPP (California Assessment of Student Performance and Progress) for English Language Arts and Mathematics. \n\n\nHow to Prepare\nTo ensure our students can perform their best\, we ask for your support with the following: \n\n\nAttendance: Please ensure your student is at school on time every day during the testing window. \n\n\nRest & Nutrition: A good night’s sleep and a healthy breakfast make a huge difference in focus and stamina. \n\n\nTechnology: Students should bring their school-issued laptops fully charged each morning. \n\n\nEncouragement: Remind your student to stay relaxed and do their personal best! \n\n\nWe are so proud of the hard work our students have put in this year. Let’s finish strong\, Warriors! \n\nIf you have any questions regarding the testing schedule or specific requirements\, please contact the main office (310)999-6162.
URL:https://newmillenniumschool.org/event/caassp-and-cast-testing-april-20th-30th/
END:VEVENT
BEGIN:VEVENT
DTSTART;TZID=America/Los_Angeles:20260518T083000
DTEND;TZID=America/Los_Angeles:20260522T160000
DTSTAMP:20260424T012208
CREATED:20260417T210312Z
LAST-MODIFIED:20260417T210312Z
UID:1257-1779093000-1779465600@newmillenniumschool.org
SUMMARY:Senior Week May 18\, 2026 - Mary 22\, 2026
DESCRIPTION:Senior Week 2026: Celebrate the Class of 2026!\nThe countdown is on! We are excited to announce that Senior Week will take place from May 18 to May 22\, 2026. This is a special time to celebrate our seniors’ hard work and create lasting memories before graduation. \nImportant Details & Deadlines\n\n\nSenior Activities Start: Monday\, May 18\, 2026. \n\n\nField Trip Slips: Students can pick up their required field trip slips from the Business Office. \n\n\nDeadline to Return Slips: All completed slips must be returned to Ms. Alex no later than May 8\, 2026. \n\n\nSenior Packages & Tickets\nTime is running out to secure your spot for these upcoming events! If you haven’t purchased a senior package or individual tickets for activities yet\, please act now. \n\n\nContact for Tickets: Please see Ms. Alex in the front office or call (310) 999-6162 ext. 111 for pricing and availability. \n\n\nAvailability: Tickets are limited\, and we want every senior to be able to participate. Don’t wait until the last minute! \n\n\nStay Tuned\nWe will be providing more specific information regarding the daily schedule and event locations to students and parents very soon. \nLet’s make this a week to remember\, Warriors! Class of 2026\, it’s your time to shine!
URL:https://newmillenniumschool.org/event/senior-week-may-18-2026-mary-22-2026/
END:VEVENT
END:VCALENDAR